BEGIN:VCALENDAR
VERSION:2.0
PRODID:-//The Altar Church - ECPv6.15.20//NONSGML v1.0//EN
CALSCALE:GREGORIAN
METHOD:PUBLISH
X-WR-CALNAME:The Altar Church
X-ORIGINAL-URL:https://altarcda.com
X-WR-CALDESC:Events for The Altar Church
REFRESH-INTERVAL;VALUE=DURATION:PT1H
X-Robots-Tag:noindex
X-PUBLISHED-TTL:PT1H
BEGIN:VTIMEZONE
TZID:America/Los_Angeles
BEGIN:DAYLIGHT
TZOFFSETFROM:-0800
TZOFFSETTO:-0700
TZNAME:PDT
DTSTART:20250309T100000
END:DAYLIGHT
BEGIN:STANDARD
TZOFFSETFROM:-0700
TZOFFSETTO:-0800
TZNAME:PST
DTSTART:20251102T090000
END:STANDARD
BEGIN:DAYLIGHT
TZOFFSETFROM:-0800
TZOFFSETTO:-0700
TZNAME:PDT
DTSTART:20260308T100000
END:DAYLIGHT
BEGIN:STANDARD
TZOFFSETFROM:-0700
TZOFFSETTO:-0800
TZNAME:PST
DTSTART:20261101T090000
END:STANDARD
BEGIN:DAYLIGHT
TZOFFSETFROM:-0800
TZOFFSETTO:-0700
TZNAME:PDT
DTSTART:20270314T100000
END:DAYLIGHT
BEGIN:STANDARD
TZOFFSETFROM:-0700
TZOFFSETTO:-0800
TZNAME:PST
DTSTART:20271107T090000
END:STANDARD
END:VTIMEZONE
BEGIN:VEVENT
DTSTART;TZID=America/Los_Angeles:20260313T120000
DTEND;TZID=America/Los_Angeles:20260314T170000
DTSTAMP:20260423T164333
CREATED:20250821T160759Z
LAST-MODIFIED:20260211T194750Z
UID:10000929-1773403200-1773507600@altarcda.com
SUMMARY:Women's Retreat- Unshakable
DESCRIPTION:Join us at our upcoming fall Women’s Retreat on March 13th and 14th\, where we will grow in the necessity of building and maintaining firm foundations in Christ and learn to become Unshakable! \nThe cost is 75$ per lady. Payments can be made at the Church or on-line through the CHURCH CENTER app. Check-In begins at noon on Friday at Riverview with Check-out at 5pm on Saturday. Bring a sack lunch for Friday\, your Bible\, and bedding. The mattresses are cozy and the food is wonderful!
URL:https://altarcda.com/event/womens-retreat-authentic-identity/
LOCATION:River View Bible Camp\, 9725\, 408771 WA-20\, Cusick\, WA\, 99199\, United States
ATTACH;FMTTYPE=image/png:https://altarcda.com/wp-content/uploads/2025/08/Roses-Marriage-Retreat-Church-Flyer-4.png
END:VEVENT
END:VCALENDAR