BEGIN:VCALENDAR
VERSION:2.0
PRODID:-//The Altar Church - ECPv6.15.20//NONSGML v1.0//EN
CALSCALE:GREGORIAN
METHOD:PUBLISH
X-WR-CALNAME:The Altar Church
X-ORIGINAL-URL:https://altarcda.com
X-WR-CALDESC:Events for The Altar Church
REFRESH-INTERVAL;VALUE=DURATION:PT1H
X-Robots-Tag:noindex
X-PUBLISHED-TTL:PT1H
BEGIN:VTIMEZONE
TZID:America/Los_Angeles
BEGIN:DAYLIGHT
TZOFFSETFROM:-0800
TZOFFSETTO:-0700
TZNAME:PDT
DTSTART:20250309T100000
END:DAYLIGHT
BEGIN:STANDARD
TZOFFSETFROM:-0700
TZOFFSETTO:-0800
TZNAME:PST
DTSTART:20251102T090000
END:STANDARD
BEGIN:DAYLIGHT
TZOFFSETFROM:-0800
TZOFFSETTO:-0700
TZNAME:PDT
DTSTART:20260308T100000
END:DAYLIGHT
BEGIN:STANDARD
TZOFFSETFROM:-0700
TZOFFSETTO:-0800
TZNAME:PST
DTSTART:20261101T090000
END:STANDARD
BEGIN:DAYLIGHT
TZOFFSETFROM:-0800
TZOFFSETTO:-0700
TZNAME:PDT
DTSTART:20270314T100000
END:DAYLIGHT
BEGIN:STANDARD
TZOFFSETFROM:-0700
TZOFFSETTO:-0800
TZNAME:PST
DTSTART:20271107T090000
END:STANDARD
END:VTIMEZONE
BEGIN:VEVENT
DTSTART;TZID=America/Los_Angeles:20260329T140000
DTEND;TZID=America/Los_Angeles:20260329T170000
DTSTAMP:20260423T150825
CREATED:20251105T173018Z
LAST-MODIFIED:20260319T173419Z
UID:10000931-1774792800-1774803600@altarcda.com
SUMMARY:New Comers Meet & Greet
DESCRIPTION:If you are new to the Altar Church\, please join us at 2pm on March 29th at our Meet & Greet. This is a great opportunity for you to meet our Pastoral Staff and ask any questions that you may have. We would like to get to know you and your family as well. Our Meet & Greet will begin at 2pm and will be held at at the Church downstairs in the fellowship hall. Please call the Church office to sign up and for more information.
URL:https://altarcda.com/event/new-comers-meet-greet-2/
ATTACH;FMTTYPE=image/png:https://altarcda.com/wp-content/uploads/2025/11/Black-White-Bold-Meet-and-Greet-Instagram-Post-Presentation-2.png
END:VEVENT
END:VCALENDAR