BEGIN:VCALENDAR
VERSION:2.0
PRODID:-//The Altar Church - ECPv6.15.20//NONSGML v1.0//EN
CALSCALE:GREGORIAN
METHOD:PUBLISH
X-WR-CALNAME:The Altar Church
X-ORIGINAL-URL:https://altarcda.com
X-WR-CALDESC:Events for The Altar Church
REFRESH-INTERVAL;VALUE=DURATION:PT1H
X-Robots-Tag:noindex
X-PUBLISHED-TTL:PT1H
BEGIN:VTIMEZONE
TZID:America/Los_Angeles
BEGIN:DAYLIGHT
TZOFFSETFROM:-0800
TZOFFSETTO:-0700
TZNAME:PDT
DTSTART:20170312T100000
END:DAYLIGHT
BEGIN:STANDARD
TZOFFSETFROM:-0700
TZOFFSETTO:-0800
TZNAME:PST
DTSTART:20171105T090000
END:STANDARD
BEGIN:DAYLIGHT
TZOFFSETFROM:-0800
TZOFFSETTO:-0700
TZNAME:PDT
DTSTART:20180311T100000
END:DAYLIGHT
BEGIN:STANDARD
TZOFFSETFROM:-0700
TZOFFSETTO:-0800
TZNAME:PST
DTSTART:20181104T090000
END:STANDARD
BEGIN:DAYLIGHT
TZOFFSETFROM:-0800
TZOFFSETTO:-0700
TZNAME:PDT
DTSTART:20190310T100000
END:DAYLIGHT
BEGIN:STANDARD
TZOFFSETFROM:-0700
TZOFFSETTO:-0800
TZNAME:PST
DTSTART:20191103T090000
END:STANDARD
BEGIN:DAYLIGHT
TZOFFSETFROM:-0800
TZOFFSETTO:-0700
TZNAME:PDT
DTSTART:20200308T100000
END:DAYLIGHT
BEGIN:STANDARD
TZOFFSETFROM:-0700
TZOFFSETTO:-0800
TZNAME:PST
DTSTART:20201101T090000
END:STANDARD
BEGIN:DAYLIGHT
TZOFFSETFROM:-0800
TZOFFSETTO:-0700
TZNAME:PDT
DTSTART:20210314T100000
END:DAYLIGHT
BEGIN:STANDARD
TZOFFSETFROM:-0700
TZOFFSETTO:-0800
TZNAME:PST
DTSTART:20211107T090000
END:STANDARD
BEGIN:DAYLIGHT
TZOFFSETFROM:-0800
TZOFFSETTO:-0700
TZNAME:PDT
DTSTART:20220313T100000
END:DAYLIGHT
BEGIN:STANDARD
TZOFFSETFROM:-0700
TZOFFSETTO:-0800
TZNAME:PST
DTSTART:20221106T090000
END:STANDARD
BEGIN:DAYLIGHT
TZOFFSETFROM:-0800
TZOFFSETTO:-0700
TZNAME:PDT
DTSTART:20230312T100000
END:DAYLIGHT
BEGIN:STANDARD
TZOFFSETFROM:-0700
TZOFFSETTO:-0800
TZNAME:PST
DTSTART:20231105T090000
END:STANDARD
BEGIN:DAYLIGHT
TZOFFSETFROM:-0800
TZOFFSETTO:-0700
TZNAME:PDT
DTSTART:20240310T100000
END:DAYLIGHT
BEGIN:STANDARD
TZOFFSETFROM:-0700
TZOFFSETTO:-0800
TZNAME:PST
DTSTART:20241103T090000
END:STANDARD
BEGIN:DAYLIGHT
TZOFFSETFROM:-0800
TZOFFSETTO:-0700
TZNAME:PDT
DTSTART:20250309T100000
END:DAYLIGHT
BEGIN:STANDARD
TZOFFSETFROM:-0700
TZOFFSETTO:-0800
TZNAME:PST
DTSTART:20251102T090000
END:STANDARD
END:VTIMEZONE
BEGIN:VEVENT
DTSTART;TZID=America/Los_Angeles:20241124T140000
DTEND;TZID=America/Los_Angeles:20241124T160000
DTSTAMP:20260424T062448
CREATED:20241107T004541Z
LAST-MODIFIED:20241107T004541Z
UID:10000649-1732456800-1732464000@altarcda.com
SUMMARY:Baptisms
DESCRIPTION:The Altar Church and Family Worship Center or anyone who is ready to publicly profess their new found faith in Jesus Christ as their Lord and Savior. Baptism will held at Family Worship Center in Hayden at 2pm on Sunday\, November 24th. Please arrive by 1:30 if you are planning on getting baptized and be sure to bring a change of clothing and a towel.
URL:https://altarcda.com/event/baptisms-3/
LOCATION:Family Worship Center\, 697 W Dakota Ave.\, Hayden\, 83835\, United States
ATTACH;FMTTYPE=image/jpeg:https://altarcda.com/wp-content/uploads/2024/11/kaleb-tapp-DNrjKP3srT4-unsplash-scaled.jpg
END:VEVENT
BEGIN:VEVENT
DTSTART;TZID=America/Los_Angeles:20240928T140000
DTEND;TZID=America/Los_Angeles:20240928T180000
DTSTAMP:20260424T062449
CREATED:20240916T214756Z
LAST-MODIFIED:20240916T214756Z
UID:10000644-1727532000-1727546400@altarcda.com
SUMMARY:Harvest Blast!
DESCRIPTION:Join us for a great afternoon of free family fun with Family worship Center. Come worship around the campfire\, and enjoy food\, games\, contest\, and prizes. Bring the whole family! \nPlease bring your own lawn-chair or blanket for seating.
URL:https://altarcda.com/event/harvest-blast/
LOCATION:Family Worship Center\, 697 W Dakota Ave.\, Hayden\, 83835\, United States
ATTACH;FMTTYPE=image/png:https://altarcda.com/wp-content/uploads/2024/09/Brown-and-White-Modern-Autumn-Harvest-Festival-Flyer.png
END:VEVENT
BEGIN:VEVENT
DTSTART;TZID=America/Los_Angeles:20220102T150000
DTEND;TZID=America/Los_Angeles:20220102T170000
DTSTAMP:20260424T062449
CREATED:20211211T002651Z
LAST-MODIFIED:20211211T002651Z
UID:10000081-1641135600-1641142800@altarcda.com
SUMMARY:Baptisms
DESCRIPTION:Have you been baptized? If you would like to be baptized in water\, please prepare your heart and mark your calendar for January 2\, 3 PM at the Hayden Family Worship Center.
URL:https://altarcda.com/event/baptisms/
LOCATION:Family Worship Center\, 697 W Dakota Ave.\, Hayden\, 83835\, United States
ATTACH;FMTTYPE=image/webp:https://altarcda.com/wp-content/uploads/2021/12/photo-1518837695005-2083093ee35b.webp
END:VEVENT
BEGIN:VEVENT
DTSTART;TZID=America/Los_Angeles:20181007T133000
DTEND;TZID=America/Los_Angeles:20181007T170000
DTSTAMP:20260424T062449
CREATED:20180905T190847Z
LAST-MODIFIED:20180905T190918Z
UID:10000022-1538919000-1538931600@altarcda.com
SUMMARY:Chili Cook Off Fundraiser
DESCRIPTION:Enjoy a huge selection of chili\, homemade cornbread\, homemade hot chocolate\, salad and cookies. DONATION ONLY FUNDRAISER. There will also be a silent auction you won’t want to miss.  The money goes towards a Kenya mission trip.
URL:https://altarcda.com/event/chili-cook-off-fundraiser/
LOCATION:Family Worship Center\, 697 W Dakota Ave.\, Hayden\, 83835\, United States
END:VEVENT
BEGIN:VEVENT
DTSTART;TZID=America/Los_Angeles:20180408T150000
DTEND;TZID=America/Los_Angeles:20180408T170000
DTSTAMP:20260424T062449
CREATED:20180405T154625Z
LAST-MODIFIED:20180405T160755Z
UID:10000008-1523199600-1523206800@altarcda.com
SUMMARY:Baptism's at Hayden Family Worship Center
DESCRIPTION:Feel free to show and get baptized or come support those who are!
URL:https://altarcda.com/event/baptisms-at-hayden-family-worship-center/
LOCATION:Family Worship Center\, 697 W Dakota Ave.\, Hayden\, 83835\, United States
END:VEVENT
END:VCALENDAR