BEGIN:VCALENDAR
VERSION:2.0
PRODID:-//The Altar Church - ECPv6.15.20//NONSGML v1.0//EN
CALSCALE:GREGORIAN
METHOD:PUBLISH
X-ORIGINAL-URL:https://altarcda.com
X-WR-CALDESC:Events for The Altar Church
REFRESH-INTERVAL;VALUE=DURATION:PT1H
X-Robots-Tag:noindex
X-PUBLISHED-TTL:PT1H
BEGIN:VTIMEZONE
TZID:America/Los_Angeles
BEGIN:DAYLIGHT
TZOFFSETFROM:-0800
TZOFFSETTO:-0700
TZNAME:PDT
DTSTART:20240310T100000
END:DAYLIGHT
BEGIN:STANDARD
TZOFFSETFROM:-0700
TZOFFSETTO:-0800
TZNAME:PST
DTSTART:20241103T090000
END:STANDARD
BEGIN:DAYLIGHT
TZOFFSETFROM:-0800
TZOFFSETTO:-0700
TZNAME:PDT
DTSTART:20250309T100000
END:DAYLIGHT
BEGIN:STANDARD
TZOFFSETFROM:-0700
TZOFFSETTO:-0800
TZNAME:PST
DTSTART:20251102T090000
END:STANDARD
BEGIN:DAYLIGHT
TZOFFSETFROM:-0800
TZOFFSETTO:-0700
TZNAME:PDT
DTSTART:20260308T100000
END:DAYLIGHT
BEGIN:STANDARD
TZOFFSETFROM:-0700
TZOFFSETTO:-0800
TZNAME:PST
DTSTART:20261101T090000
END:STANDARD
END:VTIMEZONE
BEGIN:VEVENT
DTSTART;TZID=America/Los_Angeles:20250817T140000
DTEND;TZID=America/Los_Angeles:20250817T190000
DTSTAMP:20260423T215023
CREATED:20250808T213604Z
LAST-MODIFIED:20250808T213604Z
UID:10000928-1755439200-1755457200@altarcda.com
SUMMARY:Annual Church Picnic
DESCRIPTION:Altar Church Annual Picnic & 33rd Anniversary Celebration – Sunday August 17\, at 2pm.  A wonderful time for the whole congregation to fellowship\, gather and celebrate 33 years together! We will have our basket raffles\, pie auction\, a volleyball tournament\, face painting for the children\, and so much more. We will provide the burgers and hot dogs and ask that you bring a potluck dish to share. We hope you will join us!!
URL:https://altarcda.com/event/annual-church-picnic-2/
LOCATION:Shadduck Lane Park\, 1875 E Shadduck Ln\, Coeur d'Alene\, Idaho\, 83815
ATTACH;FMTTYPE=application/pdf:https://altarcda.com/wp-content/uploads/2025/08/Pink-And-Green-Modern-Picnic-In-The-Park-Instagram-Post-Presentation-3.pdf
END:VEVENT
END:VCALENDAR