BEGIN:VCALENDAR
VERSION:2.0
PRODID:-//The Altar Church - ECPv6.15.20//NONSGML v1.0//EN
CALSCALE:GREGORIAN
METHOD:PUBLISH
X-ORIGINAL-URL:https://altarcda.com
X-WR-CALDESC:Events for The Altar Church
REFRESH-INTERVAL;VALUE=DURATION:PT1H
X-Robots-Tag:noindex
X-PUBLISHED-TTL:PT1H
BEGIN:VTIMEZONE
TZID:America/Los_Angeles
BEGIN:DAYLIGHT
TZOFFSETFROM:-0800
TZOFFSETTO:-0700
TZNAME:PDT
DTSTART:20230312T100000
END:DAYLIGHT
BEGIN:STANDARD
TZOFFSETFROM:-0700
TZOFFSETTO:-0800
TZNAME:PST
DTSTART:20231105T090000
END:STANDARD
BEGIN:DAYLIGHT
TZOFFSETFROM:-0800
TZOFFSETTO:-0700
TZNAME:PDT
DTSTART:20240310T100000
END:DAYLIGHT
BEGIN:STANDARD
TZOFFSETFROM:-0700
TZOFFSETTO:-0800
TZNAME:PST
DTSTART:20241103T090000
END:STANDARD
BEGIN:DAYLIGHT
TZOFFSETFROM:-0800
TZOFFSETTO:-0700
TZNAME:PDT
DTSTART:20250309T100000
END:DAYLIGHT
BEGIN:STANDARD
TZOFFSETFROM:-0700
TZOFFSETTO:-0800
TZNAME:PST
DTSTART:20251102T090000
END:STANDARD
BEGIN:DAYLIGHT
TZOFFSETFROM:-0800
TZOFFSETTO:-0700
TZNAME:PDT
DTSTART:20260308T100000
END:DAYLIGHT
BEGIN:STANDARD
TZOFFSETFROM:-0700
TZOFFSETTO:-0800
TZNAME:PST
DTSTART:20261101T090000
END:STANDARD
END:VTIMEZONE
BEGIN:VEVENT
DTSTART;TZID=America/Los_Angeles:20250301T080000
DTEND;TZID=America/Los_Angeles:20250301T103000
DTSTAMP:20260419T102931
CREATED:20230308T193707Z
LAST-MODIFIED:20230308T193707Z
UID:10000236-1740816000-1740825000@altarcda.com
SUMMARY:Mens Breakfast
DESCRIPTION:Men\, join us for some great food\, fellowship\, worship\, and the Word of God!
URL:https://altarcda.com/event/mens-breakfast-2/2025-03-01/
LOCATION:The Altar\, 901 E Best Ave\, CoeurD'Alene\, 83814\, United States
ATTACH;FMTTYPE=image/jpeg:https://altarcda.com/wp-content/uploads/2018/01/zac-durant-302752.jpg
END:VEVENT
BEGIN:VEVENT
DTSTART;TZID=America/Los_Angeles:20250207T180000
DTEND;TZID=America/Los_Angeles:20250207T210000
DTSTAMP:20260419T102931
CREATED:20250113T184132Z
LAST-MODIFIED:20250113T184132Z
UID:10000653-1738951200-1738962000@altarcda.com
SUMMARY:2025 Sweetheart Banquet
DESCRIPTION:Join us at the Altar for our annual Sweetheart Banquet. Come enjoy wonderful food\, fellowship and games. Let’s Celebrate God’s love together! \nSpace is limited so purchase your tickets in the Altar foyer today.
URL:https://altarcda.com/event/2025-sweetheart-banquet/
LOCATION:The Altar\, 901 E Best Ave\, CoeurD'Alene\, 83814\, United States
ATTACH;FMTTYPE=image/png:https://altarcda.com/wp-content/uploads/2025/01/Black-and-Red-Valentines-Day-Party-Flyer-Presentation.png
END:VEVENT
BEGIN:VEVENT
DTSTART;TZID=America/Los_Angeles:20250201T080000
DTEND;TZID=America/Los_Angeles:20250201T103000
DTSTAMP:20260419T102931
CREATED:20230308T193707Z
LAST-MODIFIED:20230308T193707Z
UID:10000235-1738396800-1738405800@altarcda.com
SUMMARY:Mens Breakfast
DESCRIPTION:Men\, join us for some great food\, fellowship\, worship\, and the Word of God!
URL:https://altarcda.com/event/mens-breakfast-2/2025-02-01/
LOCATION:The Altar\, 901 E Best Ave\, CoeurD'Alene\, 83814\, United States
ATTACH;FMTTYPE=image/jpeg:https://altarcda.com/wp-content/uploads/2018/01/zac-durant-302752.jpg
END:VEVENT
BEGIN:VEVENT
DTSTART;TZID=America/Los_Angeles:20250104T080000
DTEND;TZID=America/Los_Angeles:20250104T103000
DTSTAMP:20260419T102931
CREATED:20230308T193707Z
LAST-MODIFIED:20230308T193707Z
UID:10000234-1735977600-1735986600@altarcda.com
SUMMARY:Mens Breakfast
DESCRIPTION:Men\, join us for some great food\, fellowship\, worship\, and the Word of God!
URL:https://altarcda.com/event/mens-breakfast-2/2025-01-04/
LOCATION:The Altar\, 901 E Best Ave\, CoeurD'Alene\, 83814\, United States
ATTACH;FMTTYPE=image/jpeg:https://altarcda.com/wp-content/uploads/2018/01/zac-durant-302752.jpg
END:VEVENT
BEGIN:VEVENT
DTSTART;TZID=America/Los_Angeles:20241207T080000
DTEND;TZID=America/Los_Angeles:20241207T103000
DTSTAMP:20260419T102931
CREATED:20230308T193707Z
LAST-MODIFIED:20230308T193707Z
UID:10000233-1733558400-1733567400@altarcda.com
SUMMARY:Mens Breakfast
DESCRIPTION:Men\, join us for some great food\, fellowship\, worship\, and the Word of God!
URL:https://altarcda.com/event/mens-breakfast-2/2024-12-07/
LOCATION:The Altar\, 901 E Best Ave\, CoeurD'Alene\, 83814\, United States
ATTACH;FMTTYPE=image/jpeg:https://altarcda.com/wp-content/uploads/2018/01/zac-durant-302752.jpg
END:VEVENT
BEGIN:VEVENT
DTSTART;TZID=America/Los_Angeles:20241102T080000
DTEND;TZID=America/Los_Angeles:20241102T103000
DTSTAMP:20260419T102931
CREATED:20230308T193707Z
LAST-MODIFIED:20230308T193707Z
UID:10000232-1730534400-1730543400@altarcda.com
SUMMARY:Mens Breakfast
DESCRIPTION:Men\, join us for some great food\, fellowship\, worship\, and the Word of God!
URL:https://altarcda.com/event/mens-breakfast-2/2024-11-02/
LOCATION:The Altar\, 901 E Best Ave\, CoeurD'Alene\, 83814\, United States
ATTACH;FMTTYPE=image/jpeg:https://altarcda.com/wp-content/uploads/2018/01/zac-durant-302752.jpg
END:VEVENT
BEGIN:VEVENT
DTSTART;TZID=America/Los_Angeles:20241007T180000
DTEND;TZID=America/Los_Angeles:20241007T200000
DTSTAMP:20260419T102931
CREATED:20240924T171143Z
LAST-MODIFIED:20240924T171143Z
UID:10000647-1728324000-1728331200@altarcda.com
SUMMARY:Roman Road - Piano music and the spoken Word of God presented by Matt Wilder
DESCRIPTION:Piano music and the spoken Word of God presented by Matt Wilder
URL:https://altarcda.com/event/roman-road-piano-music-and-the-spoken-word-of-god-presented-by-matt-wilder/
LOCATION:The Altar\, 901 E Best Ave\, CoeurD'Alene\, 83814\, United States
ATTACH;FMTTYPE=image/jpeg:https://altarcda.com/wp-content/uploads/2024/09/The-Altar-Promo.jpeg
END:VEVENT
BEGIN:VEVENT
DTSTART;TZID=America/Los_Angeles:20241005T080000
DTEND;TZID=America/Los_Angeles:20241005T103000
DTSTAMP:20260419T102931
CREATED:20230308T193707Z
LAST-MODIFIED:20230308T193707Z
UID:10000231-1728115200-1728124200@altarcda.com
SUMMARY:Mens Breakfast
DESCRIPTION:Men\, join us for some great food\, fellowship\, worship\, and the Word of God!
URL:https://altarcda.com/event/mens-breakfast-2/2024-10-05/
LOCATION:The Altar\, 901 E Best Ave\, CoeurD'Alene\, 83814\, United States
ATTACH;FMTTYPE=image/jpeg:https://altarcda.com/wp-content/uploads/2018/01/zac-durant-302752.jpg
END:VEVENT
BEGIN:VEVENT
DTSTART;TZID=America/Los_Angeles:20240928T100000
DTEND;TZID=America/Los_Angeles:20240928T113000
DTSTAMP:20260419T102931
CREATED:20240916T215116Z
LAST-MODIFIED:20240916T215116Z
UID:10000645-1727517600-1727523000@altarcda.com
SUMMARY:Free Medicare Workshop
DESCRIPTION:
URL:https://altarcda.com/event/free-medicare-workshop/
LOCATION:The Altar\, 901 E Best Ave\, CoeurD'Alene\, 83814\, United States
ATTACH;FMTTYPE=image/png:https://altarcda.com/wp-content/uploads/2024/09/Medicare-101-Workshop-September-28-2024-Flyer-the-Altar-Church-Final.pdf.png
END:VEVENT
BEGIN:VEVENT
DTSTART;TZID=America/Los_Angeles:20240907T080000
DTEND;TZID=America/Los_Angeles:20240907T103000
DTSTAMP:20260419T102931
CREATED:20230308T193707Z
LAST-MODIFIED:20230308T193707Z
UID:10000230-1725696000-1725705000@altarcda.com
SUMMARY:Mens Breakfast
DESCRIPTION:Men\, join us for some great food\, fellowship\, worship\, and the Word of God!
URL:https://altarcda.com/event/mens-breakfast-2/2024-09-07/
LOCATION:The Altar\, 901 E Best Ave\, CoeurD'Alene\, 83814\, United States
ATTACH;FMTTYPE=image/jpeg:https://altarcda.com/wp-content/uploads/2018/01/zac-durant-302752.jpg
END:VEVENT
BEGIN:VEVENT
DTSTART;TZID=America/Los_Angeles:20240803T080000
DTEND;TZID=America/Los_Angeles:20240803T103000
DTSTAMP:20260419T102931
CREATED:20230308T193707Z
LAST-MODIFIED:20230308T193707Z
UID:10000229-1722672000-1722681000@altarcda.com
SUMMARY:Mens Breakfast
DESCRIPTION:Men\, join us for some great food\, fellowship\, worship\, and the Word of God!
URL:https://altarcda.com/event/mens-breakfast-2/2024-08-03/
LOCATION:The Altar\, 901 E Best Ave\, CoeurD'Alene\, 83814\, United States
ATTACH;FMTTYPE=image/jpeg:https://altarcda.com/wp-content/uploads/2018/01/zac-durant-302752.jpg
END:VEVENT
BEGIN:VEVENT
DTSTART;TZID=America/Los_Angeles:20240722T090000
DTEND;TZID=America/Los_Angeles:20240724T150000
DTSTAMP:20260419T102931
CREATED:20240628T151629Z
LAST-MODIFIED:20240628T151900Z
UID:10000642-1721638800-1721833200@altarcda.com
SUMMARY:VBS 2024 Dive into Friendship with God!
DESCRIPTION:Join us this year as we dive into what it is to have friendship and relationship with God! VBS at the Altar Church will last 3 full days this year\, Starting on July 22nd. We will begin at 9am each morning and end at 3pm each afternoon. The Children will be served snack as well as Lunch each day. All registered campers in 1st through 5th grade will be bused to and from the afternoon adventure-outing each day\, and our pre-k campers will enjoy so much right here at the Church as they will remain on campus.\nFor all campers- please be sure to print off and fill out both of the attached registration and permission waivers and send them to the Church e-mail at secretary@altarcda.com or drop them off at the church office. Forms must be turned in 2 weeks prior to the start of VBS. Be sure to register early as we fill up quickly\, and get ready for another season full of fun and amazing adventure with God! \n  \nClick the link to register https://altarcda.churchcenter.com/registrations/events/2277004 \nFor more info or to ask questions\, please call the office at 208-664-1453
URL:https://altarcda.com/event/vbs-2024-dive-into-friendship-with-god/
LOCATION:The Altar\, 901 E Best Ave\, CoeurD'Alene\, 83814\, United States
ATTACH;FMTTYPE=image/png:https://altarcda.com/wp-content/uploads/2024/06/Screenshot-2024-06-28-at-8.15.15 AM.png
END:VEVENT
BEGIN:VEVENT
DTSTART;TZID=America/Los_Angeles:20240706T080000
DTEND;TZID=America/Los_Angeles:20240706T103000
DTSTAMP:20260419T102931
CREATED:20230308T193707Z
LAST-MODIFIED:20230308T193707Z
UID:10000228-1720252800-1720261800@altarcda.com
SUMMARY:Mens Breakfast
DESCRIPTION:Men\, join us for some great food\, fellowship\, worship\, and the Word of God!
URL:https://altarcda.com/event/mens-breakfast-2/2024-07-06/
LOCATION:The Altar\, 901 E Best Ave\, CoeurD'Alene\, 83814\, United States
ATTACH;FMTTYPE=image/jpeg:https://altarcda.com/wp-content/uploads/2018/01/zac-durant-302752.jpg
END:VEVENT
BEGIN:VEVENT
DTSTART;TZID=America/Los_Angeles:20240615T090000
DTEND;TZID=America/Los_Angeles:20240615T150000
DTSTAMP:20260419T102931
CREATED:20240430T194618Z
LAST-MODIFIED:20240430T194618Z
UID:10000639-1718442000-1718463600@altarcda.com
SUMMARY:Biblical Activism Boot Camp
DESCRIPTION:Speakers include Blaine Confetti from the Idaho Family Policy Center\, Rick Green from Patriot Academy\, and Theo Wold former Solicitor General. Learn to Engage culture Biblically. \n  \nRegister today using this link https://www.eventbrite.com/e/coeur-dalene-biblical-activism-bootcamp-tickets-888674869457?aff=oddtdtcreator
URL:https://altarcda.com/event/biblical-activism-boot-camp/
LOCATION:The Altar\, 901 E Best Ave\, CoeurD'Alene\, 83814\, United States
ATTACH;FMTTYPE=image/jpeg:https://altarcda.com/wp-content/uploads/2024/04/BOOTCAMP-SOCIAL-FLIER.jpg
END:VEVENT
BEGIN:VEVENT
DTSTART;TZID=America/Los_Angeles:20240602T150000
DTEND;TZID=America/Los_Angeles:20240602T170000
DTSTAMP:20260419T102931
CREATED:20240430T193935Z
LAST-MODIFIED:20240430T195201Z
UID:10000382-1717340400-1717347600@altarcda.com
SUMMARY:Biblical Citizenship in Modern America
DESCRIPTION:Being Biblical Citizens requires a knowledge of Biblical principles and how to apply them to the world around us. Please join us Sunday afternoons at 3:00\, for this 8 week course here at the Altar\, for an enjoyable learning experience. This important opportunity is sponsored by Watchmen Ministry\, North Idaho. \n 
URL:https://altarcda.com/event/biblical-citizenship-in-modern-america/2024-06-02/
LOCATION:The Altar\, 901 E Best Ave\, CoeurD'Alene\, 83814\, United States
ATTACH;FMTTYPE=image/png:https://altarcda.com/wp-content/uploads/2024/04/Biblical-citizenship.png
END:VEVENT
BEGIN:VEVENT
DTSTART;TZID=America/Los_Angeles:20240601T080000
DTEND;TZID=America/Los_Angeles:20240601T103000
DTSTAMP:20260419T102931
CREATED:20230308T193707Z
LAST-MODIFIED:20230308T193707Z
UID:10000227-1717228800-1717237800@altarcda.com
SUMMARY:Mens Breakfast
DESCRIPTION:Men\, join us for some great food\, fellowship\, worship\, and the Word of God!
URL:https://altarcda.com/event/mens-breakfast-2/2024-06-01/
LOCATION:The Altar\, 901 E Best Ave\, CoeurD'Alene\, 83814\, United States
ATTACH;FMTTYPE=image/jpeg:https://altarcda.com/wp-content/uploads/2018/01/zac-durant-302752.jpg
END:VEVENT
BEGIN:VEVENT
DTSTART;TZID=America/Los_Angeles:20240526T150000
DTEND;TZID=America/Los_Angeles:20240526T170000
DTSTAMP:20260419T102931
CREATED:20240430T193935Z
LAST-MODIFIED:20240430T195201Z
UID:10000381-1716735600-1716742800@altarcda.com
SUMMARY:Biblical Citizenship in Modern America
DESCRIPTION:Being Biblical Citizens requires a knowledge of Biblical principles and how to apply them to the world around us. Please join us Sunday afternoons at 3:00\, for this 8 week course here at the Altar\, for an enjoyable learning experience. This important opportunity is sponsored by Watchmen Ministry\, North Idaho. \n 
URL:https://altarcda.com/event/biblical-citizenship-in-modern-america/2024-05-26/
LOCATION:The Altar\, 901 E Best Ave\, CoeurD'Alene\, 83814\, United States
ATTACH;FMTTYPE=image/png:https://altarcda.com/wp-content/uploads/2024/04/Biblical-citizenship.png
END:VEVENT
BEGIN:VEVENT
DTSTART;TZID=America/Los_Angeles:20240520T180000
DTEND;TZID=America/Los_Angeles:20240520T200000
DTSTAMP:20260419T102931
CREATED:20240430T185444Z
LAST-MODIFIED:20240430T185444Z
UID:10000354-1716228000-1716235200@altarcda.com
SUMMARY:Dennis Agajanian Live
DESCRIPTION:Come experience\, one of the best guitarist on the planet as we worship together with Dennis Agajanian!
URL:https://altarcda.com/event/dennis-agajanian-live/
LOCATION:The Altar\, 901 E Best Ave\, CoeurD'Alene\, 83814\, United States
END:VEVENT
BEGIN:VEVENT
DTSTART;TZID=America/Los_Angeles:20240519T150000
DTEND;TZID=America/Los_Angeles:20240519T170000
DTSTAMP:20260419T102931
CREATED:20240430T193935Z
LAST-MODIFIED:20240430T195201Z
UID:10000380-1716130800-1716138000@altarcda.com
SUMMARY:Biblical Citizenship in Modern America
DESCRIPTION:Being Biblical Citizens requires a knowledge of Biblical principles and how to apply them to the world around us. Please join us Sunday afternoons at 3:00\, for this 8 week course here at the Altar\, for an enjoyable learning experience. This important opportunity is sponsored by Watchmen Ministry\, North Idaho. \n 
URL:https://altarcda.com/event/biblical-citizenship-in-modern-america/2024-05-19/
LOCATION:The Altar\, 901 E Best Ave\, CoeurD'Alene\, 83814\, United States
ATTACH;FMTTYPE=image/png:https://altarcda.com/wp-content/uploads/2024/04/Biblical-citizenship.png
END:VEVENT
BEGIN:VEVENT
DTSTART;TZID=America/Los_Angeles:20240512T150000
DTEND;TZID=America/Los_Angeles:20240512T170000
DTSTAMP:20260419T102931
CREATED:20240430T193935Z
LAST-MODIFIED:20240430T195201Z
UID:10000379-1715526000-1715533200@altarcda.com
SUMMARY:Biblical Citizenship in Modern America
DESCRIPTION:Being Biblical Citizens requires a knowledge of Biblical principles and how to apply them to the world around us. Please join us Sunday afternoons at 3:00\, for this 8 week course here at the Altar\, for an enjoyable learning experience. This important opportunity is sponsored by Watchmen Ministry\, North Idaho. \n 
URL:https://altarcda.com/event/biblical-citizenship-in-modern-america/2024-05-12/
LOCATION:The Altar\, 901 E Best Ave\, CoeurD'Alene\, 83814\, United States
ATTACH;FMTTYPE=image/png:https://altarcda.com/wp-content/uploads/2024/04/Biblical-citizenship.png
END:VEVENT
BEGIN:VEVENT
DTSTART;TZID=America/Los_Angeles:20240506T163000
DTEND;TZID=America/Los_Angeles:20240506T180000
DTSTAMP:20260419T102931
CREATED:20240430T195856Z
LAST-MODIFIED:20240502T185412Z
UID:10000641-1715013000-1715018400@altarcda.com
SUMMARY:Taco Bar Fundraiser for Africa
DESCRIPTION:On May 6\, Kathy McDermott is hostessing a Taco Bar  to raise funds for the mission trip to Africa. Please come between 4:30 and 6:00 pm\, and fill your tummy with goodness! Suggested donation is a minimum of $5 per person. Thank you for your support!
URL:https://altarcda.com/event/baked-potato-bar-fund-raiser/
LOCATION:The Altar\, 901 E Best Ave\, CoeurD'Alene\, 83814\, United States
ATTACH;FMTTYPE=image/webp:https://altarcda.com/wp-content/uploads/2024/04/photo-1599974579688-8dbdd335c77f.webp
END:VEVENT
BEGIN:VEVENT
DTSTART;TZID=America/Los_Angeles:20240505T150000
DTEND;TZID=America/Los_Angeles:20240505T170000
DTSTAMP:20260419T102931
CREATED:20240430T193935Z
LAST-MODIFIED:20240430T195201Z
UID:10000378-1714921200-1714928400@altarcda.com
SUMMARY:Biblical Citizenship in Modern America
DESCRIPTION:Being Biblical Citizens requires a knowledge of Biblical principles and how to apply them to the world around us. Please join us Sunday afternoons at 3:00\, for this 8 week course here at the Altar\, for an enjoyable learning experience. This important opportunity is sponsored by Watchmen Ministry\, North Idaho. \n 
URL:https://altarcda.com/event/biblical-citizenship-in-modern-america/2024-05-05/
LOCATION:The Altar\, 901 E Best Ave\, CoeurD'Alene\, 83814\, United States
ATTACH;FMTTYPE=image/png:https://altarcda.com/wp-content/uploads/2024/04/Biblical-citizenship.png
END:VEVENT
BEGIN:VEVENT
DTSTART;TZID=America/Los_Angeles:20240504T080000
DTEND;TZID=America/Los_Angeles:20240504T103000
DTSTAMP:20260419T102931
CREATED:20230308T193707Z
LAST-MODIFIED:20230308T193707Z
UID:10000226-1714809600-1714818600@altarcda.com
SUMMARY:Mens Breakfast
DESCRIPTION:Men\, join us for some great food\, fellowship\, worship\, and the Word of God!
URL:https://altarcda.com/event/mens-breakfast-2/2024-05-04/
LOCATION:The Altar\, 901 E Best Ave\, CoeurD'Alene\, 83814\, United States
ATTACH;FMTTYPE=image/jpeg:https://altarcda.com/wp-content/uploads/2018/01/zac-durant-302752.jpg
END:VEVENT
BEGIN:VEVENT
DTSTART;TZID=America/Los_Angeles:20240503T083000
DTEND;TZID=America/Los_Angeles:20240503T170000
DTSTAMP:20260419T102931
CREATED:20240430T195351Z
LAST-MODIFIED:20240430T195351Z
UID:10000640-1714725000-1714755600@altarcda.com
SUMMARY:Flower Baskets for Africa
DESCRIPTION:These beautiful hanging plants make wonderful Mother’s Day gifts or to beautify your home. They are $40 each. Proceeds will support our missions to Malawi. They will be delivered to the church and ready to pick up this Friday\, May 3rd\, at 8:30 am. Not all are spoken for! Come in and get yours on Friday.
URL:https://altarcda.com/event/flower-baskets-for-africa/
LOCATION:The Altar\, 901 E Best Ave\, CoeurD'Alene\, 83814\, United States
ATTACH;FMTTYPE=image/jpeg:https://altarcda.com/wp-content/uploads/2024/04/IMG_0036-scaled.jpeg
END:VEVENT
BEGIN:VEVENT
DTSTART;TZID=America/Los_Angeles:20240428T150000
DTEND;TZID=America/Los_Angeles:20240428T170000
DTSTAMP:20260419T102931
CREATED:20240430T193935Z
LAST-MODIFIED:20240430T195201Z
UID:10000377-1714316400-1714323600@altarcda.com
SUMMARY:Biblical Citizenship in Modern America
DESCRIPTION:Being Biblical Citizens requires a knowledge of Biblical principles and how to apply them to the world around us. Please join us Sunday afternoons at 3:00\, for this 8 week course here at the Altar\, for an enjoyable learning experience. This important opportunity is sponsored by Watchmen Ministry\, North Idaho. \n 
URL:https://altarcda.com/event/biblical-citizenship-in-modern-america/2024-04-28/
LOCATION:The Altar\, 901 E Best Ave\, CoeurD'Alene\, 83814\, United States
ATTACH;FMTTYPE=image/png:https://altarcda.com/wp-content/uploads/2024/04/Biblical-citizenship.png
END:VEVENT
BEGIN:VEVENT
DTSTART;TZID=America/Los_Angeles:20240421T150000
DTEND;TZID=America/Los_Angeles:20240421T170000
DTSTAMP:20260419T102931
CREATED:20240430T193935Z
LAST-MODIFIED:20240430T195201Z
UID:10000376-1713711600-1713718800@altarcda.com
SUMMARY:Biblical Citizenship in Modern America
DESCRIPTION:Being Biblical Citizens requires a knowledge of Biblical principles and how to apply them to the world around us. Please join us Sunday afternoons at 3:00\, for this 8 week course here at the Altar\, for an enjoyable learning experience. This important opportunity is sponsored by Watchmen Ministry\, North Idaho. \n 
URL:https://altarcda.com/event/biblical-citizenship-in-modern-america/2024-04-21/
LOCATION:The Altar\, 901 E Best Ave\, CoeurD'Alene\, 83814\, United States
ATTACH;FMTTYPE=image/png:https://altarcda.com/wp-content/uploads/2024/04/Biblical-citizenship.png
END:VEVENT
BEGIN:VEVENT
DTSTART;TZID=America/Los_Angeles:20240414T150000
DTEND;TZID=America/Los_Angeles:20240414T170000
DTSTAMP:20260419T102931
CREATED:20240430T193935Z
LAST-MODIFIED:20240430T195201Z
UID:10000375-1713106800-1713114000@altarcda.com
SUMMARY:Biblical Citizenship in Modern America
DESCRIPTION:Being Biblical Citizens requires a knowledge of Biblical principles and how to apply them to the world around us. Please join us Sunday afternoons at 3:00\, for this 8 week course here at the Altar\, for an enjoyable learning experience. This important opportunity is sponsored by Watchmen Ministry\, North Idaho. \n 
URL:https://altarcda.com/event/biblical-citizenship-in-modern-america/2024-04-14/
LOCATION:The Altar\, 901 E Best Ave\, CoeurD'Alene\, 83814\, United States
ATTACH;FMTTYPE=image/png:https://altarcda.com/wp-content/uploads/2024/04/Biblical-citizenship.png
END:VEVENT
BEGIN:VEVENT
DTSTART;TZID=America/Los_Angeles:20240406T080000
DTEND;TZID=America/Los_Angeles:20240406T103000
DTSTAMP:20260419T102931
CREATED:20230308T193707Z
LAST-MODIFIED:20230308T193707Z
UID:10000225-1712390400-1712399400@altarcda.com
SUMMARY:Mens Breakfast
DESCRIPTION:Men\, join us for some great food\, fellowship\, worship\, and the Word of God!
URL:https://altarcda.com/event/mens-breakfast-2/2024-04-06/
LOCATION:The Altar\, 901 E Best Ave\, CoeurD'Alene\, 83814\, United States
ATTACH;FMTTYPE=image/jpeg:https://altarcda.com/wp-content/uploads/2018/01/zac-durant-302752.jpg
END:VEVENT
BEGIN:VEVENT
DTSTART;TZID=America/Los_Angeles:20240317T150000
DTEND;TZID=America/Los_Angeles:20240317T170000
DTSTAMP:20260419T102931
CREATED:20240223T175135Z
LAST-MODIFIED:20240223T175135Z
UID:10000349-1710687600-1710694800@altarcda.com
SUMMARY:Annual Business Meeting
DESCRIPTION:Calling all Altar church voting members and those interested in hearing about the business of The Altar. Please join us for our Annual Business Meeting where we will be discussing the previous year and the amazing things that God has done. We will be going over the finances of the church and voting on deacons. If you are voting member\, we\, need you to show up for a quorum.
URL:https://altarcda.com/event/annual-business-meeting-4/
LOCATION:The Altar\, 901 E Best Ave\, CoeurD'Alene\, 83814\, United States
END:VEVENT
BEGIN:VEVENT
DTSTART;TZID=America/Los_Angeles:20240312T180000
DTEND;TZID=America/Los_Angeles:20240312T210000
DTSTAMP:20260419T102932
CREATED:20230308T190818Z
LAST-MODIFIED:20230308T191143Z
UID:10000145-1710266400-1710277200@altarcda.com
SUMMARY:Prayer and Worship Night
DESCRIPTION:Come\, join us for an intimate night of prayer\, confession\, and worship.
URL:https://altarcda.com/event/prayer-and-worship-night/2024-03-12/
LOCATION:The Altar\, 901 E Best Ave\, CoeurD'Alene\, 83814\, United States
ATTACH;FMTTYPE=image/webp:https://altarcda.com/wp-content/uploads/2023/03/photo-1530688957198-8570b1819eeb.webp
END:VEVENT
END:VCALENDAR